BEGIN:VCALENDAR
VERSION:2.0
PRODID:-//wp-events-plugin.com//7.2.3.1//EN
TZID:America/Chicago
X-WR-TIMEZONE:America/Chicago
BEGIN:VEVENT
UID:122@staugustine.edu
DTSTART;TZID=America/Chicago;VALUE=DATE:20241127
DTEND;TZID=America/Chicago;VALUE=DATE:20241202
DTSTAMP:20241119T201408Z
URL:https://www.staugustine.edu/events/thanksgiving-holiday-recess/
SUMMARY:Thanksgiving Holiday Recess
DESCRIPTION:Happy Thanksgiving! There will be no classes on from the 27th o
 f November to the 29th of November.
END:VEVENT
BEGIN:VTIMEZONE
TZID:America/Chicago
X-LIC-LOCATION:America/Chicago
BEGIN:STANDARD
DTSTART:20241103T010000
TZOFFSETFROM:-0500
TZOFFSETTO:-0600
TZNAME:CST
END:STANDARD
END:VTIMEZONE
END:VCALENDAR