BEGIN:VCALENDAR
VERSION:2.0
PRODID:-//wp-events-plugin.com//7.2.3.1//EN
TZID:America/Chicago
X-WR-TIMEZONE:America/Chicago
BEGIN:VEVENT
UID:134@staugustine.edu
DTSTART;TZID=America/Chicago:20250327T160000
DTEND;TZID=America/Chicago:20250327T180000
DTSTAMP:20250319T164153Z
URL:https://www.staugustine.edu/events/student-success-center-presents-int
 erviewing-workshop/
SUMMARY:Student Success Center Presents: Interviewing Workshop
DESCRIPTION:Join St. Augustine College for an interviewing workshop on Marc
 h 27th\, with the English portion from 4:00 - 4:50 PM and the Spanish port
 ion from 5:00 - 5:50 PM. \n\n&nbsp\;\n\nJoin via Zoom here. 
LOCATION:https://staugustine-edu.zoom.us/j/2424459180?pwd=cEkwNUlpU1RKbDhnS
 HdrOWNjYXlPUT09#success
END:VEVENT
BEGIN:VTIMEZONE
TZID:America/Chicago
X-LIC-LOCATION:America/Chicago
BEGIN:DAYLIGHT
DTSTART:20250309T030000
TZOFFSETFROM:-0600
TZOFFSETTO:-0500
TZNAME:CDT
END:DAYLIGHT
END:VTIMEZONE
END:VCALENDAR