BEGIN:VCALENDAR
VERSION:2.0
PRODID:-//wp-events-plugin.com//7.2.3.1//EN
TZID:America/Chicago
X-WR-TIMEZONE:America/Chicago
BEGIN:VEVENT
UID:51@staugustine.edu
DTSTART;TZID=America/Chicago:20221028T140000
DTEND;TZID=America/Chicago:20221028T150000
DTSTAMP:20250416T165936Z
URL:https://www.staugustine.edu/events/student-government-2022-10-28/
SUMMARY:Student Government
DESCRIPTION:Student Government Association Meeting: Open to all students\nC
 ontact: Shekeita Webb (swebb@staugustine.edu)\nWhen: Meeting is the last F
 riday of every month\n01/28\n02/25\n03/25\n04/29\n05/27\n06/24\n07/29\n08/
 26\n09/30\n10/28\nTime: 2 p.m. via Zoom\nWhere: Join Zoom Meeting\nhttps:/
 /us05web.zoom.us/j/89084686603?pwd=RDYvTnFRNXNPc01BdndTNFhGMm5WQT09\nMeeti
 ng ID: 890 8468 6603\nPasscode: etq0YR
LOCATION:https://us05web.zoom.us/j/89084686603?pwd=RDYvTnFRNXNPc01BdndTNFhG
 Mm5WQT09
END:VEVENT
BEGIN:VTIMEZONE
TZID:America/Chicago
X-LIC-LOCATION:America/Chicago
BEGIN:DAYLIGHT
DTSTART:20220313T030000
TZOFFSETFROM:-0600
TZOFFSETTO:-0500
TZNAME:CDT
END:DAYLIGHT
END:VTIMEZONE
END:VCALENDAR