BEGIN:VCALENDAR
VERSION:2.0
PRODID:-//wp-events-plugin.com//7.2.3.1//EN
TZID:America/Chicago
X-WR-TIMEZONE:America/Chicago
BEGIN:VEVENT
UID:126@staugustine.edu
DTSTART;TZID=America/Chicago;VALUE=DATE:20250121
DTEND;TZID=America/Chicago;VALUE=DATE:20250122
DTSTAMP:20241119T214031Z
URL:https://www.staugustine.edu/events/spring-1-first-day-of-class/
SUMMARY:Spring 1: First Day of Class
DESCRIPTION:Hello\, students! Today is the first day of Spring 1 classes.
END:VEVENT
BEGIN:VTIMEZONE
TZID:America/Chicago
X-LIC-LOCATION:America/Chicago
BEGIN:STANDARD
DTSTART:20241103T010000
TZOFFSETFROM:-0500
TZOFFSETTO:-0600
TZNAME:CST
END:STANDARD
END:VTIMEZONE
END:VCALENDAR