BEGIN:VCALENDAR
VERSION:2.0
PRODID:-//wp-events-plugin.com//7.2.3.1//EN
TZID:America/Chicago
X-WR-TIMEZONE:America/Chicago
BEGIN:VEVENT
UID:130@staugustine.edu
DTSTART;TZID=America/Chicago;VALUE=DATE:20250617
DTEND;TZID=America/Chicago;VALUE=DATE:20250618
DTSTAMP:20250319T161416Z
URL:https://www.staugustine.edu/events/juneteenth-classes-canceled/
SUMMARY:Juneteenth - No Classes
DESCRIPTION:In observation of Juneteenth\, there will be no classes on June
  19th\, 2025.
END:VEVENT
BEGIN:VTIMEZONE
TZID:America/Chicago
X-LIC-LOCATION:America/Chicago
BEGIN:DAYLIGHT
DTSTART:20250309T030000
TZOFFSETFROM:-0600
TZOFFSETTO:-0500
TZNAME:CDT
END:DAYLIGHT
END:VTIMEZONE
END:VCALENDAR