BEGIN:VCALENDAR
VERSION:2.0
PRODID:-//wp-events-plugin.com//7.2.3.1//EN
TZID:America/Chicago
X-WR-TIMEZONE:America/Chicago
BEGIN:VEVENT
UID:36@staugustine.edu
DTSTART;TZID=America/Chicago:20220309T163000
DTEND;TZID=America/Chicago:20220309T173000
DTSTAMP:20220203T205523Z
URL:https://www.staugustine.edu/events/fulbright-2022-maldonado/
SUMMARY:Fulbright 2022 - Maldonado
DESCRIPTION:\nFULBRIGHT RESEARCH SPEAKER SERIES\n\n\n\nGerardo Maldonado\, 
 PhD\n\n\n\nProfesor Centro de Investigación y Docencia EconómicasDivisi
 ón de Estudios InternacionalesMexico\n\n\n\nA Re-Birth of Anti-Americanis
 m? Changing Mexican Feelings toward the United States\, 2004-2021\n\n\n\nT
 he outcomes of the project “Mexico\, the Americas and the World” revea
 led in 2004 and 2014 that both “trust” and “admiration” for the Un
 ited States were increasing among the Mexican population for well over a d
 ecade. The arrival of Donald Trump in 2016 caused an unprecedented and rap
 id plunge in approval\, resulting in distrust and disdain. By contrast\, t
 he Biden administration brought new hope for Mexicans. In fact\, recent da
 ta from 2021 reveals that Mexican society has a much better opinion about 
 the USA than was previously held. Based on this information\, this researc
 h project focuses on three points: (1) Changes of Mexican public opinion t
 oward the United States affected by the arrival of Donald Trump as Preside
 nt\; (2) attitudinal changes of Mexicans toward the United States and its 
 President\; and (3) the effects of the COVID-19 pandemic on the new US adm
 inistration.\n\n\n\n\nRegister Here\n\n\n\n\n\n\n\n\nFulbright-2022-Maldon
 adoDownload\n
END:VEVENT
BEGIN:VTIMEZONE
TZID:America/Chicago
X-LIC-LOCATION:America/Chicago
BEGIN:STANDARD
DTSTART:20211107T010000
TZOFFSETFROM:-0500
TZOFFSETTO:-0600
TZNAME:CST
END:STANDARD
END:VTIMEZONE
END:VCALENDAR